BEGIN:VCALENDAR
VERSION:2.0
PRODID:-//boringleman.com - ECPv6.15.14//NONSGML v1.0//EN
CALSCALE:GREGORIAN
METHOD:PUBLISH
X-WR-CALNAME:boringleman.com
X-ORIGINAL-URL:https://boringleman.com
X-WR-CALDESC:Events for boringleman.com
REFRESH-INTERVAL;VALUE=DURATION:PT1H
X-Robots-Tag:noindex
X-PUBLISHED-TTL:PT1H
BEGIN:VTIMEZONE
TZID:Europe/Zurich
BEGIN:STANDARD
TZOFFSETFROM:+0100
TZOFFSETTO:+0100
TZNAME:CET
DTSTART:19690101T000000
END:STANDARD
END:VTIMEZONE
BEGIN:VEVENT
DTSTART;TZID=Europe/Zurich:20260420T174443
DTEND;TZID=Europe/Zurich:20260420T174443
DTSTAMP:20260420T174443
CREATED:20250506T202334Z
LAST-MODIFIED:20250506T202334Z
UID:3504-0-0@boringleman.com
SUMMARY:Animations aux Grangettes - Fête de la Nature
DESCRIPTION:21 – 24 mai 2025
URL:https://boringleman.com/event/animations-aux-grangettes-fete-de-la-nature/
END:VEVENT
BEGIN:VEVENT
DTSTART;TZID=Europe/Zurich:20260420T174443
DTEND;TZID=Europe/Zurich:20260420T174443
DTSTAMP:20260420T174443
CREATED:20250506T202321Z
LAST-MODIFIED:20250506T202333Z
UID:3502-0-0@boringleman.com
SUMMARY:Visite découverte - Réserve naturelle des Grangettes
DESCRIPTION:26 avril – 25 octobre 2025
URL:https://boringleman.com/event/visite-decouverte-reserve-naturelle-des-grangettes-3/
END:VEVENT
BEGIN:VEVENT
DTSTART;TZID=Europe/Zurich:20260420T174443
DTEND;TZID=Europe/Zurich:20260420T174443
DTSTAMP:20260420T174443
CREATED:20250506T202320Z
LAST-MODIFIED:20250506T202320Z
UID:3501-0-0@boringleman.com
SUMMARY:Visite découverte - Réserve naturelle des Grangettes
DESCRIPTION:26 avril – 25 octobre 2025
URL:https://boringleman.com/event/visite-decouverte-reserve-naturelle-des-grangettes-2/
END:VEVENT
BEGIN:VEVENT
DTSTART;TZID=Europe/Zurich:20260420T174443
DTEND;TZID=Europe/Zurich:20260420T174443
DTSTAMP:20260420T174443
CREATED:20250506T202319Z
LAST-MODIFIED:20250506T202319Z
UID:3499-0-0@boringleman.com
SUMMARY:Reptiles et amphibiens du delta du Rhône
DESCRIPTION:17 mai 2025
URL:https://boringleman.com/event/reptiles-et-amphibiens-du-delta-du-rhone/
END:VEVENT
BEGIN:VEVENT
DTSTART;TZID=Europe/Zurich:20260420T174443
DTEND;TZID=Europe/Zurich:20260420T174443
DTSTAMP:20260420T174443
CREATED:20250506T202319Z
LAST-MODIFIED:20250506T202319Z
UID:3500-0-0@boringleman.com
SUMMARY:Visite découverte - Réserve naturelle des Grangettes
DESCRIPTION:26 avril – 25 octobre 2025
URL:https://boringleman.com/event/visite-decouverte-reserve-naturelle-des-grangettes/
END:VEVENT
BEGIN:VEVENT
DTSTART;TZID=Europe/Zurich:20260420T174443
DTEND;TZID=Europe/Zurich:20260420T174443
DTSTAMP:20260420T174443
CREATED:20250506T202318Z
LAST-MODIFIED:20250506T202318Z
UID:3498-0-0@boringleman.com
SUMMARY:Lavaux en bus\, l’histoire en plus ! Audioguide VMCV 218
DESCRIPTION:1 mai – 30 juin 2025
URL:https://boringleman.com/event/lavaux-en-bus-lhistoire-en-plus-audioguide-vmcv-218/
END:VEVENT
BEGIN:VEVENT
DTSTART;TZID=Europe/Zurich:20260420T174443
DTEND;TZID=Europe/Zurich:20260420T174443
DTSTAMP:20260420T174443
CREATED:20250506T202306Z
LAST-MODIFIED:20250506T202306Z
UID:3497-0-0@boringleman.com
SUMMARY:Théâtre en plein air - Much Ado about Nothing
DESCRIPTION:2 juin 2025
URL:https://boringleman.com/event/theatre-en-plein-air-much-ado-about-nothing/
END:VEVENT
BEGIN:VEVENT
DTSTART;TZID=Europe/Zurich:20260420T174443
DTEND;TZID=Europe/Zurich:20260420T174443
DTSTAMP:20260420T174443
CREATED:20250506T202305Z
LAST-MODIFIED:20250506T202305Z
UID:3496-0-0@boringleman.com
SUMMARY:Ecoute voir l'eau | La Baye de Clarens
DESCRIPTION:25 mai 2025
URL:https://boringleman.com/event/ecoute-voir-leau-la-baye-de-clarens/
END:VEVENT
BEGIN:VEVENT
DTSTART;TZID=Europe/Zurich:20260420T174443
DTEND;TZID=Europe/Zurich:20260420T174443
DTSTAMP:20260420T174443
CREATED:20250506T202304Z
LAST-MODIFIED:20250506T202304Z
UID:3494-0-0@boringleman.com
SUMMARY:Mes premiers pas vers l'école enfantine
DESCRIPTION:16 mai 2025
URL:https://boringleman.com/event/mes-premiers-pas-vers-lecole-enfantine/
END:VEVENT
BEGIN:VEVENT
DTSTART;TZID=Europe/Zurich:20260420T174443
DTEND;TZID=Europe/Zurich:20260420T174443
DTSTAMP:20260420T174443
CREATED:20250506T202303Z
LAST-MODIFIED:20250506T202303Z
UID:3493-0-0@boringleman.com
SUMMARY:10 ans de Dring Dring
DESCRIPTION:28 juin 2025
URL:https://boringleman.com/event/10-ans-de-dring-dring/
END:VEVENT
BEGIN:VEVENT
DTSTART;TZID=Europe/Zurich:20260420T174443
DTEND;TZID=Europe/Zurich:20260420T174443
DTSTAMP:20260420T174443
CREATED:20250506T202252Z
LAST-MODIFIED:20250506T202252Z
UID:3492-0-0@boringleman.com
SUMMARY:Swiss Dance Challenge Manor Vevey
DESCRIPTION:4 – 7 juin 2025
URL:https://boringleman.com/event/swiss-dance-challenge-manor-vevey/
END:VEVENT
BEGIN:VEVENT
DTSTART;TZID=Europe/Zurich:20260420T174443
DTEND;TZID=Europe/Zurich:20260420T174443
DTSTAMP:20260420T174443
CREATED:20250506T202251Z
LAST-MODIFIED:20250506T202251Z
UID:3491-0-0@boringleman.com
SUMMARY:Balade Gourmande de Villeneuve
DESCRIPTION:14 juin 2025
URL:https://boringleman.com/event/balade-gourmande-de-villeneuve/
END:VEVENT
BEGIN:VEVENT
DTSTART;TZID=Europe/Zurich:20260420T174443
DTEND;TZID=Europe/Zurich:20260420T174443
DTSTAMP:20260420T174443
CREATED:20250506T202250Z
LAST-MODIFIED:20250506T202250Z
UID:3490-0-0@boringleman.com
SUMMARY:Cirque Helvetia
DESCRIPTION:9 – 11 mai 2025
URL:https://boringleman.com/event/cirque-helvetia/
END:VEVENT
BEGIN:VEVENT
DTSTART;TZID=Europe/Zurich:20260420T174443
DTEND;TZID=Europe/Zurich:20260420T174443
DTSTAMP:20260420T174443
CREATED:20250506T202249Z
LAST-MODIFIED:20250506T202249Z
UID:3489-0-0@boringleman.com
SUMMARY:Camp de jour Art et Nature
DESCRIPTION:30 juin 2025
URL:https://boringleman.com/event/camp-de-jour-art-et-nature/
END:VEVENT
BEGIN:VEVENT
DTSTART;TZID=Europe/Zurich:20260420T174443
DTEND;TZID=Europe/Zurich:20260420T174443
DTSTAMP:20260420T174443
CREATED:20250506T202248Z
LAST-MODIFIED:20250506T202248Z
UID:3488-0-0@boringleman.com
SUMMARY:48e Régate des Vieux Bateaux
DESCRIPTION:25 – 27 juillet 2025
URL:https://boringleman.com/event/48e-regate-des-vieux-bateaux/
END:VEVENT
BEGIN:VEVENT
DTSTART;TZID=Europe/Zurich:20260420T174443
DTEND;TZID=Europe/Zurich:20260420T174443
DTSTAMP:20260420T174443
CREATED:20250506T202236Z
LAST-MODIFIED:20250506T202236Z
UID:3487-0-0@boringleman.com
SUMMARY:41e Course Chaplin
DESCRIPTION:23 août 2025
URL:https://boringleman.com/event/41e-course-chaplin/
END:VEVENT
BEGIN:VEVENT
DTSTART;TZID=Europe/Zurich:20260420T174443
DTEND;TZID=Europe/Zurich:20260420T174443
DTSTAMP:20260420T174443
CREATED:20250506T202235Z
LAST-MODIFIED:20250506T202235Z
UID:3486-0-0@boringleman.com
SUMMARY:Nox Orae - 15e édition
DESCRIPTION:28 – 30 août 2025
URL:https://boringleman.com/event/nox-orae-15e-edition/
END:VEVENT
BEGIN:VEVENT
DTSTART;TZID=Europe/Zurich:20260420T174443
DTEND;TZID=Europe/Zurich:20260420T174443
DTSTAMP:20260420T174443
CREATED:20250506T202234Z
LAST-MODIFIED:20250506T202234Z
UID:3484-0-0@boringleman.com
SUMMARY:Le Train Folklorique
DESCRIPTION:2 – 30 août 2025
URL:https://boringleman.com/event/le-train-folklorique/
END:VEVENT
BEGIN:VEVENT
DTSTART;TZID=Europe/Zurich:20260420T174443
DTEND;TZID=Europe/Zurich:20260420T174443
DTSTAMP:20260420T174443
CREATED:20250506T202234Z
LAST-MODIFIED:20250506T202234Z
UID:3485-0-0@boringleman.com
SUMMARY:Visite de l'exposition - Une conversation sans mots
DESCRIPTION:3 juillet 2025
URL:https://boringleman.com/event/visite-de-lexposition-une-conversation-sans-mots/
END:VEVENT
BEGIN:VEVENT
DTSTART;TZID=Europe/Zurich:20260420T174443
DTEND;TZID=Europe/Zurich:20260420T174443
DTSTAMP:20260420T174443
CREATED:20250506T202233Z
LAST-MODIFIED:20250506T202233Z
UID:3483-0-0@boringleman.com
SUMMARY:Concert Eric Lacourcelle
DESCRIPTION:2 juillet 2025
URL:https://boringleman.com/event/concert-eric-lacourcelle/
END:VEVENT
BEGIN:VEVENT
DTSTART;TZID=Europe/Zurich:20260420T174443
DTEND;TZID=Europe/Zurich:20260420T174443
DTSTAMP:20260420T174443
CREATED:20250506T202032Z
LAST-MODIFIED:20250506T202032Z
UID:3449-0-0@boringleman.com
SUMMARY:Expositions à L'Appartement - Espace Images Vevey
DESCRIPTION:9 avril – 20 juillet 2025
URL:https://boringleman.com/event/expositions-a-lappartement-espace-images-vevey/
END:VEVENT
BEGIN:VEVENT
DTSTART;TZID=Europe/Zurich:20260420T174443
DTEND;TZID=Europe/Zurich:20260420T174443
DTSTAMP:20260420T174443
CREATED:20250424T173646Z
LAST-MODIFIED:20250424T173646Z
UID:3384-0-0@boringleman.com
SUMMARY:Apprendre l’art de convaincre – Kaléidosciences
DESCRIPTION:
URL:https://boringleman.com/event/apprendre-lart-de-convaincre-kaleidosciences/
END:VEVENT
BEGIN:VEVENT
DTSTART;TZID=Europe/Zurich:20260420T174443
DTEND;TZID=Europe/Zurich:20260420T174443
DTSTAMP:20260420T174443
CREATED:20250424T173632Z
LAST-MODIFIED:20250424T173632Z
UID:3378-0-0@boringleman.com
SUMMARY:L' OCL Big Nightmare Music
DESCRIPTION:
URL:https://boringleman.com/event/l-ocl-big-nightmare-music/
END:VEVENT
BEGIN:VEVENT
DTSTART;TZID=Europe/Zurich:20260420T174443
DTEND;TZID=Europe/Zurich:20260420T174443
DTSTAMP:20260420T174443
CREATED:20250424T173632Z
LAST-MODIFIED:20250424T173632Z
UID:3379-0-0@boringleman.com
SUMMARY:Arturo Brachetti
DESCRIPTION:
URL:https://boringleman.com/event/arturo-brachetti/
END:VEVENT
BEGIN:VEVENT
DTSTART;TZID=Europe/Zurich:20260420T174443
DTEND;TZID=Europe/Zurich:20260420T174443
DTSTAMP:20260420T174443
CREATED:20250424T173632Z
LAST-MODIFIED:20250424T173632Z
UID:3380-0-0@boringleman.com
SUMMARY:Club de lecture jeunesse
DESCRIPTION:
URL:https://boringleman.com/event/club-de-lecture-jeunesse/
END:VEVENT
BEGIN:VEVENT
DTSTART;TZID=Europe/Zurich:20260420T174443
DTEND;TZID=Europe/Zurich:20260420T174443
DTSTAMP:20260420T174443
CREATED:20250424T173616Z
LAST-MODIFIED:20250424T173616Z
UID:3373-0-0@boringleman.com
SUMMARY:BDFIL 2025
DESCRIPTION:
URL:https://boringleman.com/event/bdfil-2025/
END:VEVENT
BEGIN:VEVENT
DTSTART;TZID=Europe/Zurich:20260420T174443
DTEND;TZID=Europe/Zurich:20260420T174443
DTSTAMP:20260420T174443
CREATED:20250424T173616Z
LAST-MODIFIED:20250424T173616Z
UID:3374-0-0@boringleman.com
SUMMARY:2e Grande Rencontre des Parentalités Queers Féministes et Complices
DESCRIPTION:
URL:https://boringleman.com/event/2e-grande-rencontre-des-parentalites-queers-feministes-et-complices/
END:VEVENT
BEGIN:VEVENT
DTSTART;TZID=Europe/Zurich:20260420T174443
DTEND;TZID=Europe/Zurich:20260420T174443
DTSTAMP:20260420T174443
CREATED:20250424T173616Z
LAST-MODIFIED:20250424T173616Z
UID:3375-0-0@boringleman.com
SUMMARY:3x3 World Tour Lausanne Masters
DESCRIPTION:
URL:https://boringleman.com/event/3x3-world-tour-lausanne-masters/
END:VEVENT
BEGIN:VEVENT
DTSTART;TZID=Europe/Zurich:20260420T174443
DTEND;TZID=Europe/Zurich:20260420T174443
DTSTAMP:20260420T174443
CREATED:20250424T173616Z
LAST-MODIFIED:20250424T173616Z
UID:3376-0-0@boringleman.com
SUMMARY:The Mystery of Banksy
DESCRIPTION:
URL:https://boringleman.com/event/the-mystery-of-banksy/
END:VEVENT
BEGIN:VEVENT
DTSTART;TZID=Europe/Zurich:20260420T174443
DTEND;TZID=Europe/Zurich:20260420T174443
DTSTAMP:20260420T174443
CREATED:20250424T173601Z
LAST-MODIFIED:20250424T173601Z
UID:3368-0-0@boringleman.com
SUMMARY:Les Arbr’Apéros: A la découverte du plus beau tilleul de Lausanne
DESCRIPTION:
URL:https://boringleman.com/event/les-arbraperos-a-la-decouverte-du-plus-beau-tilleul-de-lausanne/
END:VEVENT
END:VCALENDAR