BEGIN:VCALENDAR
VERSION:2.0
PRODID:-//boringleman.com - ECPv6.15.14//NONSGML v1.0//EN
CALSCALE:GREGORIAN
METHOD:PUBLISH
X-WR-CALNAME:boringleman.com
X-ORIGINAL-URL:https://boringleman.com
X-WR-CALDESC:Events for boringleman.com
REFRESH-INTERVAL;VALUE=DURATION:PT1H
X-Robots-Tag:noindex
X-PUBLISHED-TTL:PT1H
BEGIN:VTIMEZONE
TZID:Europe/Zurich
BEGIN:STANDARD
TZOFFSETFROM:+0100
TZOFFSETTO:+0100
TZNAME:CET
DTSTART:19690101T000000
END:STANDARD
END:VTIMEZONE
BEGIN:VEVENT
DTSTART;TZID=Europe/Zurich:20260422T083751
DTEND;TZID=Europe/Zurich:20260422T083751
DTSTAMP:20260422T083751
CREATED:20250506T202233Z
LAST-MODIFIED:20250506T202233Z
UID:3483-0-0@boringleman.com
SUMMARY:Concert Eric Lacourcelle
DESCRIPTION:2 juillet 2025
URL:https://boringleman.com/event/concert-eric-lacourcelle/
END:VEVENT
BEGIN:VEVENT
DTSTART;TZID=Europe/Zurich:20260422T083751
DTEND;TZID=Europe/Zurich:20260422T083751
DTSTAMP:20260422T083751
CREATED:20250506T202032Z
LAST-MODIFIED:20250506T202032Z
UID:3449-0-0@boringleman.com
SUMMARY:Expositions à L'Appartement - Espace Images Vevey
DESCRIPTION:9 avril – 20 juillet 2025
URL:https://boringleman.com/event/expositions-a-lappartement-espace-images-vevey/
END:VEVENT
BEGIN:VEVENT
DTSTART;TZID=Europe/Zurich:20260422T083751
DTEND;TZID=Europe/Zurich:20260422T083751
DTSTAMP:20260422T083751
CREATED:20250424T173646Z
LAST-MODIFIED:20250424T173646Z
UID:3384-0-0@boringleman.com
SUMMARY:Apprendre l’art de convaincre – Kaléidosciences
DESCRIPTION:
URL:https://boringleman.com/event/apprendre-lart-de-convaincre-kaleidosciences/
END:VEVENT
BEGIN:VEVENT
DTSTART;TZID=Europe/Zurich:20260422T083751
DTEND;TZID=Europe/Zurich:20260422T083751
DTSTAMP:20260422T083751
CREATED:20250424T173632Z
LAST-MODIFIED:20250424T173632Z
UID:3380-0-0@boringleman.com
SUMMARY:Club de lecture jeunesse
DESCRIPTION:
URL:https://boringleman.com/event/club-de-lecture-jeunesse/
END:VEVENT
BEGIN:VEVENT
DTSTART;TZID=Europe/Zurich:20260422T083751
DTEND;TZID=Europe/Zurich:20260422T083751
DTSTAMP:20260422T083751
CREATED:20250424T173632Z
LAST-MODIFIED:20250424T173632Z
UID:3378-0-0@boringleman.com
SUMMARY:L' OCL Big Nightmare Music
DESCRIPTION:
URL:https://boringleman.com/event/l-ocl-big-nightmare-music/
END:VEVENT
BEGIN:VEVENT
DTSTART;TZID=Europe/Zurich:20260422T083751
DTEND;TZID=Europe/Zurich:20260422T083751
DTSTAMP:20260422T083751
CREATED:20250424T173632Z
LAST-MODIFIED:20250424T173632Z
UID:3379-0-0@boringleman.com
SUMMARY:Arturo Brachetti
DESCRIPTION:
URL:https://boringleman.com/event/arturo-brachetti/
END:VEVENT
BEGIN:VEVENT
DTSTART;TZID=Europe/Zurich:20260422T083751
DTEND;TZID=Europe/Zurich:20260422T083751
DTSTAMP:20260422T083751
CREATED:20250424T173616Z
LAST-MODIFIED:20250424T173616Z
UID:3374-0-0@boringleman.com
SUMMARY:2e Grande Rencontre des Parentalités Queers Féministes et Complices
DESCRIPTION:
URL:https://boringleman.com/event/2e-grande-rencontre-des-parentalites-queers-feministes-et-complices/
END:VEVENT
BEGIN:VEVENT
DTSTART;TZID=Europe/Zurich:20260422T083751
DTEND;TZID=Europe/Zurich:20260422T083751
DTSTAMP:20260422T083751
CREATED:20250424T173616Z
LAST-MODIFIED:20250424T173616Z
UID:3375-0-0@boringleman.com
SUMMARY:3x3 World Tour Lausanne Masters
DESCRIPTION:
URL:https://boringleman.com/event/3x3-world-tour-lausanne-masters/
END:VEVENT
BEGIN:VEVENT
DTSTART;TZID=Europe/Zurich:20260422T083751
DTEND;TZID=Europe/Zurich:20260422T083751
DTSTAMP:20260422T083751
CREATED:20250424T173616Z
LAST-MODIFIED:20250424T173616Z
UID:3376-0-0@boringleman.com
SUMMARY:The Mystery of Banksy
DESCRIPTION:
URL:https://boringleman.com/event/the-mystery-of-banksy/
END:VEVENT
BEGIN:VEVENT
DTSTART;TZID=Europe/Zurich:20260422T083751
DTEND;TZID=Europe/Zurich:20260422T083751
DTSTAMP:20260422T083751
CREATED:20250424T173616Z
LAST-MODIFIED:20250424T173616Z
UID:3373-0-0@boringleman.com
SUMMARY:BDFIL 2025
DESCRIPTION:
URL:https://boringleman.com/event/bdfil-2025/
END:VEVENT
BEGIN:VEVENT
DTSTART;TZID=Europe/Zurich:20260422T083751
DTEND;TZID=Europe/Zurich:20260422T083751
DTSTAMP:20260422T083751
CREATED:20250424T173601Z
LAST-MODIFIED:20250424T173601Z
UID:3368-0-0@boringleman.com
SUMMARY:Les Arbr’Apéros: A la découverte du plus beau tilleul de Lausanne
DESCRIPTION:
URL:https://boringleman.com/event/les-arbraperos-a-la-decouverte-du-plus-beau-tilleul-de-lausanne/
END:VEVENT
BEGIN:VEVENT
DTSTART;TZID=Europe/Zurich:20260422T083751
DTEND;TZID=Europe/Zurich:20260422T083751
DTSTAMP:20260422T083751
CREATED:20250424T173533Z
LAST-MODIFIED:20250424T173533Z
UID:3361-0-0@boringleman.com
SUMMARY:Ligue d'impro professionnelle - Improvisation Théâtrale
DESCRIPTION:
URL:https://boringleman.com/event/ligue-dimpro-professionnelle-improvisation-theatrale/
END:VEVENT
BEGIN:VEVENT
DTSTART;TZID=Europe/Zurich:20260422T083751
DTEND;TZID=Europe/Zurich:20260422T083751
DTSTAMP:20260422T083751
CREATED:20250424T173516Z
LAST-MODIFIED:20250424T173516Z
UID:3356-0-0@boringleman.com
SUMMARY:Les Booketins
DESCRIPTION:
URL:https://boringleman.com/event/les-booketins/
END:VEVENT
BEGIN:VEVENT
DTSTART;TZID=Europe/Zurich:20260422T083751
DTEND;TZID=Europe/Zurich:20260422T083751
DTSTAMP:20260422T083751
CREATED:20250424T173516Z
LAST-MODIFIED:20250424T173516Z
UID:3358-0-0@boringleman.com
SUMMARY:Portail vers le passé
DESCRIPTION:
URL:https://boringleman.com/event/portail-vers-le-passe/
END:VEVENT
BEGIN:VEVENT
DTSTART;TZID=Europe/Zurich:20260422T083751
DTEND;TZID=Europe/Zurich:20260422T083751
DTSTAMP:20260422T083751
CREATED:20250424T173516Z
LAST-MODIFIED:20250424T173516Z
UID:3359-0-0@boringleman.com
SUMMARY:Elodie Poux
DESCRIPTION:
URL:https://boringleman.com/event/elodie-poux/
END:VEVENT
BEGIN:VEVENT
DTSTART;TZID=Europe/Zurich:20260422T083751
DTEND;TZID=Europe/Zurich:20260422T083751
DTSTAMP:20260422T083751
CREATED:20250424T173501Z
LAST-MODIFIED:20250424T173501Z
UID:3351-0-0@boringleman.com
SUMMARY:Les Arbr’Apéros: A la découverte des plus beaux cerisiers de Lausanne
DESCRIPTION:
URL:https://boringleman.com/event/les-arbraperos-a-la-decouverte-des-plus-beaux-cerisiers-de-lausanne/
END:VEVENT
BEGIN:VEVENT
DTSTART;TZID=Europe/Zurich:20260422T083751
DTEND;TZID=Europe/Zurich:20260422T083751
DTSTAMP:20260422T083751
CREATED:20250424T173501Z
LAST-MODIFIED:20250424T173501Z
UID:3354-0-0@boringleman.com
SUMMARY:Alice Phoebe Lou (ZA) + Cordelia (UK)
DESCRIPTION:
URL:https://boringleman.com/event/alice-phoebe-lou-za-cordelia-uk/
END:VEVENT
BEGIN:VEVENT
DTSTART;TZID=Europe/Zurich:20260422T083751
DTEND;TZID=Europe/Zurich:20260422T083751
DTSTAMP:20260422T083751
CREATED:20250424T173446Z
LAST-MODIFIED:20250424T173446Z
UID:3348-0-0@boringleman.com
SUMMARY:The Limiñanas (FR) + David Shaw & The Beat (UK/BE)
DESCRIPTION:
URL:https://boringleman.com/event/the-liminanas-fr-david-shaw-the-beat-uk-be/
END:VEVENT
BEGIN:VEVENT
DTSTART;TZID=Europe/Zurich:20260422T083751
DTEND;TZID=Europe/Zurich:20260422T083751
DTSTAMP:20260422T083751
CREATED:20250424T173446Z
LAST-MODIFIED:20250424T173446Z
UID:3349-0-0@boringleman.com
SUMMARY:1001 histoires en ukrainien
DESCRIPTION:
URL:https://boringleman.com/event/1001-histoires-en-ukrainien/
END:VEVENT
BEGIN:VEVENT
DTSTART;TZID=Europe/Zurich:20260422T083751
DTEND;TZID=Europe/Zurich:20260422T083751
DTSTAMP:20260422T083751
CREATED:20250424T173431Z
LAST-MODIFIED:20250424T173431Z
UID:3343-0-0@boringleman.com
SUMMARY:Park Volley
DESCRIPTION:
URL:https://boringleman.com/event/park-volley/
END:VEVENT
BEGIN:VEVENT
DTSTART;TZID=Europe/Zurich:20260422T083751
DTEND;TZID=Europe/Zurich:20260422T083751
DTSTAMP:20260422T083751
CREATED:20250424T173431Z
LAST-MODIFIED:20250424T173431Z
UID:3344-0-0@boringleman.com
SUMMARY:Les petites variations #3: mouvement pour fil élastique
DESCRIPTION:
URL:https://boringleman.com/event/les-petites-variations-3-mouvement-pour-fil-elastique/
END:VEVENT
BEGIN:VEVENT
DTSTART;TZID=Europe/Zurich:20260422T083751
DTEND;TZID=Europe/Zurich:20260422T083751
DTSTAMP:20260422T083751
CREATED:20250424T173416Z
LAST-MODIFIED:20250424T173416Z
UID:3336-0-0@boringleman.com
SUMMARY:Le lasagne della nonna
DESCRIPTION:
URL:https://boringleman.com/event/le-lasagne-della-nonna/
END:VEVENT
BEGIN:VEVENT
DTSTART;TZID=Europe/Zurich:20260422T083751
DTEND;TZID=Europe/Zurich:20260422T083751
DTSTAMP:20260422T083751
CREATED:20250424T173416Z
LAST-MODIFIED:20250424T173416Z
UID:3340-0-0@boringleman.com
SUMMARY:Quatuor
DESCRIPTION:
URL:https://boringleman.com/event/quatuor/
END:VEVENT
BEGIN:VEVENT
DTSTART;TZID=Europe/Zurich:20260422T083751
DTEND;TZID=Europe/Zurich:20260422T083751
DTSTAMP:20260422T083751
CREATED:20250424T173109Z
LAST-MODIFIED:20250424T173109Z
UID:3333-0-0@boringleman.com
SUMMARY:Les Arbr’Apéros: A la découverte du plus beau métaséquoia de Lausanne
DESCRIPTION:
URL:https://boringleman.com/event/les-arbraperos-a-la-decouverte-du-plus-beau-metasequoia-de-lausanne/
END:VEVENT
BEGIN:VEVENT
DTSTART;TZID=Europe/Zurich:20260422T083751
DTEND;TZID=Europe/Zurich:20260422T083751
DTSTAMP:20260422T083751
CREATED:20250424T173109Z
LAST-MODIFIED:20250424T173109Z
UID:3334-0-0@boringleman.com
SUMMARY:Fête fédérale de gymnastique Lausanne 2025
DESCRIPTION:
URL:https://boringleman.com/event/fete-federale-de-gymnastique-lausanne-2025/
END:VEVENT
BEGIN:VEVENT
DTSTART;TZID=Europe/Zurich:20260422T083751
DTEND;TZID=Europe/Zurich:20260422T083751
DTSTAMP:20260422T083751
CREATED:20250424T173109Z
LAST-MODIFIED:20250424T173109Z
UID:3335-0-0@boringleman.com
SUMMARY:Sorcière – Le Musical
DESCRIPTION:
URL:https://boringleman.com/event/sorciere-le-musical/
END:VEVENT
BEGIN:VEVENT
DTSTART;TZID=Europe/Zurich:20260422T083751
DTEND;TZID=Europe/Zurich:20260422T083751
DTSTAMP:20260422T083751
CREATED:20250424T172909Z
LAST-MODIFIED:20250424T172909Z
UID:3328-0-0@boringleman.com
SUMMARY:20KM de Lausanne
DESCRIPTION:
URL:https://boringleman.com/event/20km-de-lausanne/
END:VEVENT
BEGIN:VEVENT
DTSTART;TZID=Europe/Zurich:20260422T083751
DTEND;TZID=Europe/Zurich:20260422T083751
DTSTAMP:20260422T083751
CREATED:20250424T172707Z
LAST-MODIFIED:20250424T172707Z
UID:3325-0-0@boringleman.com
SUMMARY:Balade sur la barque la Vaudoise
DESCRIPTION:
URL:https://boringleman.com/event/balade-sur-la-barque-la-vaudoise/
END:VEVENT
BEGIN:VEVENT
DTSTART;TZID=Europe/Zurich:20260422T083751
DTEND;TZID=Europe/Zurich:20260422T083751
DTSTAMP:20260422T083751
CREATED:20250424T172707Z
LAST-MODIFIED:20250424T172707Z
UID:3327-0-0@boringleman.com
SUMMARY:Un air de Japon
DESCRIPTION:
URL:https://boringleman.com/event/un-air-de-japon/
END:VEVENT
BEGIN:VEVENT
DTSTART;TZID=Europe/Zurich:20260422T083751
DTEND;TZID=Europe/Zurich:20260422T083751
DTSTAMP:20260422T083751
CREATED:20250424T172707Z
LAST-MODIFIED:20250424T172707Z
UID:3324-0-0@boringleman.com
SUMMARY:Course Lausanne Capitale Olympique
DESCRIPTION:
URL:https://boringleman.com/event/course-lausanne-capitale-olympique/
END:VEVENT
END:VCALENDAR