BEGIN:VCALENDAR
VERSION:2.0
PRODID:-//boringleman.com - ECPv6.15.14//NONSGML v1.0//EN
CALSCALE:GREGORIAN
METHOD:PUBLISH
X-ORIGINAL-URL:https://boringleman.com
X-WR-CALDESC:Events for boringleman.com
REFRESH-INTERVAL;VALUE=DURATION:PT1H
X-Robots-Tag:noindex
X-PUBLISHED-TTL:PT1H
BEGIN:VTIMEZONE
TZID:Europe/Zurich
BEGIN:DAYLIGHT
TZOFFSETFROM:+0100
TZOFFSETTO:+0200
TZNAME:CEST
DTSTART:20240331T010000
END:DAYLIGHT
BEGIN:STANDARD
TZOFFSETFROM:+0200
TZOFFSETTO:+0100
TZNAME:CET
DTSTART:20241027T010000
END:STANDARD
BEGIN:DAYLIGHT
TZOFFSETFROM:+0100
TZOFFSETTO:+0200
TZNAME:CEST
DTSTART:20250330T010000
END:DAYLIGHT
BEGIN:STANDARD
TZOFFSETFROM:+0200
TZOFFSETTO:+0100
TZNAME:CET
DTSTART:20251026T010000
END:STANDARD
BEGIN:DAYLIGHT
TZOFFSETFROM:+0100
TZOFFSETTO:+0200
TZNAME:CEST
DTSTART:20260329T010000
END:DAYLIGHT
BEGIN:STANDARD
TZOFFSETFROM:+0200
TZOFFSETTO:+0100
TZNAME:CET
DTSTART:20261025T010000
END:STANDARD
BEGIN:DAYLIGHT
TZOFFSETFROM:+0100
TZOFFSETTO:+0200
TZNAME:CEST
DTSTART:20270328T010000
END:DAYLIGHT
BEGIN:STANDARD
TZOFFSETFROM:+0200
TZOFFSETTO:+0100
TZNAME:CET
DTSTART:20271031T010000
END:STANDARD
END:VTIMEZONE
BEGIN:VEVENT
DTSTART;TZID=Europe/Zurich:20250302T000000
DTEND;TZID=Europe/Zurich:20250812T000000
DTSTAMP:20260421T004031
CREATED:20250323T175331Z
LAST-MODIFIED:20250424T173533Z
UID:2159-1740873600-1754956800@boringleman.com
SUMMARY:Collectes de sang
DESCRIPTION:
URL:https://boringleman.com/event/collectes-de-sang/
END:VEVENT
BEGIN:VEVENT
DTSTART;TZID=Europe/Zurich:20250311T000000
DTEND;TZID=Europe/Zurich:20250817T000000
DTSTAMP:20260421T004031
CREATED:20250516T073641Z
LAST-MODIFIED:20250516T073641Z
UID:4053-1741651200-1755388800@boringleman.com
SUMMARY:Philippe Jaccottet et ses peintres
DESCRIPTION:11 mars – 17 août 2025
URL:https://boringleman.com/event/philippe-jaccottet-et-ses-peintres-2/
END:VEVENT
BEGIN:VEVENT
DTSTART;TZID=Europe/Zurich:20250409T000000
DTEND;TZID=Europe/Zurich:20250720T000000
DTSTAMP:20260421T004031
CREATED:20250516T073712Z
LAST-MODIFIED:20250516T073712Z
UID:4061-1744156800-1752969600@boringleman.com
SUMMARY:Expositions à L'Appartement - Espace Images Vevey
DESCRIPTION:9 avril – 20 juillet 2025
URL:https://boringleman.com/event/expositions-a-lappartement-espace-images-vevey-2/
END:VEVENT
BEGIN:VEVENT
DTSTART;TZID=Europe/Zurich:20250412T000000
DTEND;TZID=Europe/Zurich:20251116T000000
DTSTAMP:20260421T004031
CREATED:20250516T074126Z
LAST-MODIFIED:20250516T074126Z
UID:4148-1744416000-1763251200@boringleman.com
SUMMARY:Petit train touristique Lavaux Panoramic
DESCRIPTION:12 avril – 16 novembre 2025
URL:https://boringleman.com/event/petit-train-touristique-lavaux-panoramic-2/
END:VEVENT
BEGIN:VEVENT
DTSTART;TZID=Europe/Zurich:20250511T000000
DTEND;TZID=Europe/Zurich:20251026T000000
DTSTAMP:20260421T004031
CREATED:20250516T073726Z
LAST-MODIFIED:20250516T073726Z
UID:4067-1746921600-1761436800@boringleman.com
SUMMARY:Le marché du dimanche à Cully
DESCRIPTION:11 mai – 26 octobre 2025
URL:https://boringleman.com/event/le-marche-du-dimanche-a-cully-2/
END:VEVENT
BEGIN:VEVENT
DTSTART;TZID=Europe/Zurich:20250514T000000
DTEND;TZID=Europe/Zurich:20260329T000000
DTSTAMP:20260421T004031
CREATED:20250516T074155Z
LAST-MODIFIED:20250516T074155Z
UID:4156-1747180800-1774742400@boringleman.com
SUMMARY:En scène ! Les costumes des Fêtes des Vignerons
DESCRIPTION:14 mai 2025 – 29 mars 2026
URL:https://boringleman.com/event/en-scene-les-costumes-des-fetes-des-vignerons-2/
END:VEVENT
BEGIN:VEVENT
DTSTART;TZID=Europe/Zurich:20250606T000000
DTEND;TZID=Europe/Zurich:20250706T000000
DTSTAMP:20260421T004031
CREATED:20250516T074756Z
LAST-MODIFIED:20250516T074756Z
UID:4280-1749168000-1751760000@boringleman.com
SUMMARY:Des Corps à l'oeuvre
DESCRIPTION:6 juin – 6 juillet 2025
URL:https://boringleman.com/event/des-corps-a-loeuvre/
END:VEVENT
BEGIN:VEVENT
DTSTART;TZID=Europe/Zurich:20250607T000000
DTEND;TZID=Europe/Zurich:20250705T000000
DTSTAMP:20260421T004031
CREATED:20250516T074141Z
LAST-MODIFIED:20250516T074141Z
UID:4153-1749254400-1751673600@boringleman.com
SUMMARY:Exposition de Frédéric Brenet
DESCRIPTION:7 juin – 5 juillet 2025
URL:https://boringleman.com/event/exposition-de-frederic-brenet-2/
END:VEVENT
BEGIN:VEVENT
DTSTART;TZID=Europe/Zurich:20250609T000000
DTEND;TZID=Europe/Zurich:20250709T000000
DTSTAMP:20260421T004031
CREATED:20250424T173646Z
LAST-MODIFIED:20250424T173646Z
UID:3385-1749427200-1752019200@boringleman.com
SUMMARY:Optraken
DESCRIPTION:
URL:https://boringleman.com/event/optraken/
END:VEVENT
BEGIN:VEVENT
DTSTART;TZID=Europe/Zurich:20250623T000000
DTEND;TZID=Europe/Zurich:20250721T000000
DTSTAMP:20260421T004031
CREATED:20250516T074056Z
LAST-MODIFIED:20250516T074056Z
UID:4139-1750636800-1753056000@boringleman.com
SUMMARY:Montreux Urban Training
DESCRIPTION:7 avril – 22 décembre 2025
URL:https://boringleman.com/event/montreux-urban-training-5/
END:VEVENT
BEGIN:VEVENT
DTSTART;TZID=Europe/Zurich:20250627T000000
DTEND;TZID=Europe/Zurich:20251026T000000
DTSTAMP:20260421T004031
CREATED:20250516T074425Z
LAST-MODIFIED:20250516T074425Z
UID:4206-1750982400-1761436800@boringleman.com
SUMMARY:Une conversation sans mots
DESCRIPTION:27 juin – 26 octobre 2025
URL:https://boringleman.com/event/une-conversation-sans-mots-2/
END:VEVENT
BEGIN:VEVENT
DTSTART;TZID=Europe/Zurich:20250701T000000
DTEND;TZID=Europe/Zurich:20250701T000000
DTSTAMP:20260421T004031
CREATED:20250516T074711Z
LAST-MODIFIED:20250516T074711Z
UID:4261-1751328000-1751328000@boringleman.com
SUMMARY:Botanica 2025
DESCRIPTION:1 – 11 juillet 2025
URL:https://boringleman.com/event/botanica-2025-3/
END:VEVENT
BEGIN:VEVENT
DTSTART;TZID=Europe/Zurich:20250702T000000
DTEND;TZID=Europe/Zurich:20250702T000000
DTSTAMP:20260421T004031
CREATED:20250325T160850Z
LAST-MODIFIED:20250424T171050Z
UID:2543-1751414400-1751414400@boringleman.com
SUMMARY:Bébé à la bibliothèque
DESCRIPTION:Par vos bibliothécaires et Né pour lire  
URL:https://boringleman.com/event/bebe-a-la-bibliotheque/
END:VEVENT
BEGIN:VEVENT
DTSTART;TZID=Europe/Zurich:20250702T000000
DTEND;TZID=Europe/Zurich:20250702T000000
DTSTAMP:20260421T004031
CREATED:20250516T073626Z
LAST-MODIFIED:20250516T073626Z
UID:4048-1751414400-1751414400@boringleman.com
SUMMARY:Visite guidée “Tout-petits”
DESCRIPTION:5 mars – 5 novembre 2025
URL:https://boringleman.com/event/visite-guidee-tout-petits-6/
END:VEVENT
BEGIN:VEVENT
DTSTART;TZID=Europe/Zurich:20250702T000000
DTEND;TZID=Europe/Zurich:20250702T000000
DTSTAMP:20260421T004031
CREATED:20250516T073856Z
LAST-MODIFIED:20250516T073856Z
UID:4100-1751414400-1751414400@boringleman.com
SUMMARY:Concert Eric Lacourcelle
DESCRIPTION:2 juillet 2025
URL:https://boringleman.com/event/concert-eric-lacourcelle-2/
END:VEVENT
BEGIN:VEVENT
DTSTART;TZID=Europe/Zurich:20250702T000000
DTEND;TZID=Europe/Zurich:20250702T000000
DTSTAMP:20260421T004031
CREATED:20250516T074841Z
LAST-MODIFIED:20250516T074841Z
UID:4291-1751414400-1751414400@boringleman.com
SUMMARY:Animation pour les familles aux Grangettes
DESCRIPTION:2 juillet – 9 août 2025
URL:https://boringleman.com/event/animation-pour-les-familles-aux-grangettes-4/
END:VEVENT
BEGIN:VEVENT
DTSTART;VALUE=DATE:20250702
DTEND;VALUE=DATE:20250703
DTSTAMP:20260421T004031
CREATED:20250516T070651Z
LAST-MODIFIED:20250516T070651Z
UID:3834-1751414400-1751500799@boringleman.com
SUMMARY:Bébé à la bibliothèque
DESCRIPTION:Par vos bibliothécaires et Né pour lire  
URL:https://boringleman.com/event/bebe-a-la-bibliotheque-5/
END:VEVENT
BEGIN:VEVENT
DTSTART;TZID=Europe/Zurich:20250703T000000
DTEND;TZID=Europe/Zurich:20250703T000000
DTSTAMP:20260421T004031
CREATED:20250515T195748Z
LAST-MODIFIED:20250516T070051Z
UID:3672-1751500800-1751500800@boringleman.com
SUMMARY:Salon Romand Vintage Motors
DESCRIPTION:Parce-que la passion n’a pas de frontière….
URL:https://boringleman.com/event/salon-romand-vintage-motors/
END:VEVENT
BEGIN:VEVENT
DTSTART;TZID=Europe/Zurich:20250703T000000
DTEND;TZID=Europe/Zurich:20250703T000000
DTSTAMP:20260421T004031
CREATED:20250516T073911Z
LAST-MODIFIED:20250516T073911Z
UID:4102-1751500800-1751500800@boringleman.com
SUMMARY:Visite de l'exposition - Une conversation sans mots
DESCRIPTION:3 juillet 2025
URL:https://boringleman.com/event/visite-de-lexposition-une-conversation-sans-mots-2/
END:VEVENT
BEGIN:VEVENT
DTSTART;TZID=Europe/Zurich:20250704T000000
DTEND;TZID=Europe/Zurich:20250704T000000
DTSTAMP:20260421T004031
CREATED:20250323T180742Z
LAST-MODIFIED:20250424T171721Z
UID:2201-1751587200-1751587200@boringleman.com
SUMMARY:Où est la Tortue?
DESCRIPTION:Exposition de l’illustratrice Sybil Groux
URL:https://boringleman.com/event/ou-est-la-tortue/
END:VEVENT
BEGIN:VEVENT
DTSTART;TZID=Europe/Zurich:20250704T000000
DTEND;TZID=Europe/Zurich:20250704T000000
DTSTAMP:20260421T004031
CREATED:20250516T071651Z
LAST-MODIFIED:20250516T071651Z
UID:4002-1751587200-1751587200@boringleman.com
SUMMARY:First Friday
DESCRIPTION:3 janvier – 5 décembre 2025
URL:https://boringleman.com/event/first-friday-6/
END:VEVENT
BEGIN:VEVENT
DTSTART;TZID=Europe/Zurich:20250704T000000
DTEND;TZID=Europe/Zurich:20250704T000000
DTSTAMP:20260421T004031
CREATED:20250516T071737Z
LAST-MODIFIED:20250516T071737Z
UID:4019-1751587200-1751587200@boringleman.com
SUMMARY:Venez jouer avec l’Association Tour de Play
DESCRIPTION:7 mars – 19 décembre 2025
URL:https://boringleman.com/event/venez-jouer-avec-lassociation-tour-de-play-12/
END:VEVENT
BEGIN:VEVENT
DTSTART;TZID=Europe/Zurich:20250704T000000
DTEND;TZID=Europe/Zurich:20250704T000000
DTSTAMP:20260421T004031
CREATED:20250516T074711Z
LAST-MODIFIED:20250516T074711Z
UID:4262-1751587200-1751587200@boringleman.com
SUMMARY:L. Emery flûte à bec et A.-C. Vinay clavecin: Italie
DESCRIPTION:4 juillet 2025
URL:https://boringleman.com/event/l-emery-flute-a-bec-et-a-c-vinay-clavecin-italie-2/
END:VEVENT
BEGIN:VEVENT
DTSTART;VALUE=DATE:20250704
DTEND;VALUE=DATE:20250705
DTSTAMP:20260421T004031
CREATED:20250516T070736Z
LAST-MODIFIED:20250516T070736Z
UID:3840-1751587200-1751673599@boringleman.com
SUMMARY:Où est la Tortue?
DESCRIPTION:Exposition de l’illustratrice Sybil Groux
URL:https://boringleman.com/event/ou-est-la-tortue-2/
END:VEVENT
BEGIN:VEVENT
DTSTART;TZID=Europe/Zurich:20250704T000000
DTEND;TZID=Europe/Zurich:20250719T000000
DTSTAMP:20260421T004031
CREATED:20250516T070951Z
LAST-MODIFIED:20250516T071208Z
UID:3861-1751587200-1752883200@boringleman.com
SUMMARY:Montreux Jazz Festival
DESCRIPTION:4 – 19 juillet 2025
URL:https://boringleman.com/event/montreux-jazz-festival-2/
END:VEVENT
BEGIN:VEVENT
DTSTART;TZID=Europe/Zurich:20250705T000000
DTEND;TZID=Europe/Zurich:20250705T000000
DTSTAMP:20260421T004031
CREATED:20250516T074040Z
LAST-MODIFIED:20250516T074040Z
UID:4131-1751673600-1751673600@boringleman.com
SUMMARY:Visite guidée Caux Palace
DESCRIPTION:5 juillet – 2 août 2025
URL:https://boringleman.com/event/visite-guidee-caux-palace-4/
END:VEVENT
BEGIN:VEVENT
DTSTART;TZID=Europe/Zurich:20250705T000000
DTEND;TZID=Europe/Zurich:20250705T000000
DTSTAMP:20260421T004031
CREATED:20250516T074511Z
LAST-MODIFIED:20250516T074511Z
UID:4223-1751673600-1751673600@boringleman.com
SUMMARY:Visite guidée oenotouristique
DESCRIPTION:3 mai – 4 octobre 2025
URL:https://boringleman.com/event/visite-guidee-oenotouristique-6/
END:VEVENT
BEGIN:VEVENT
DTSTART;TZID=Europe/Zurich:20250705T000000
DTEND;TZID=Europe/Zurich:20250705T000000
DTSTAMP:20260421T004031
CREATED:20250516T074726Z
LAST-MODIFIED:20250516T074726Z
UID:4267-1751673600-1751673600@boringleman.com
SUMMARY:Vente de vélos d'occasion
DESCRIPTION:1 mars – 1 novembre 2025
URL:https://boringleman.com/event/vente-de-velos-doccasion-8/
END:VEVENT
BEGIN:VEVENT
DTSTART;TZID=Europe/Zurich:20250706T000000
DTEND;TZID=Europe/Zurich:20250706T000000
DTSTAMP:20260421T004031
CREATED:20250323T173906Z
LAST-MODIFIED:20250516T070721Z
UID:2081-1751760000-1751760000@boringleman.com
SUMMARY:Bon appétit!
DESCRIPTION:Philippe Ligron
URL:https://boringleman.com/event/bon-appetit/
END:VEVENT
BEGIN:VEVENT
DTSTART;TZID=Europe/Zurich:20250706T000000
DTEND;TZID=Europe/Zurich:20250706T000000
DTSTAMP:20260421T004031
CREATED:20250325T160650Z
LAST-MODIFIED:20250424T170142Z
UID:2508-1751760000-1751760000@boringleman.com
SUMMARY:Fête des Bibliothèques
DESCRIPTION:Venez célébrer les 90 ans des Bibliothèques!
URL:https://boringleman.com/event/fete-des-bibliotheques/
END:VEVENT
END:VCALENDAR